BEGIN:VCALENDAR
VERSION:2.0
PRODID:icalendar-ruby
CALSCALE:GREGORIAN
METHOD:PUBLISH
BEGIN:VEVENT
DTSTAMP:20260423T052117Z
UID:5-798606@napaneebaptist.com
DTSTART:20261018T173000Z
DTEND:20261018T183000Z
CLASS:PUBLIC
CREATED:20260422T195324
DESCRIPTION:Sunday Worship
LAST-MODIFIED:20260422T195324
LOCATION:
SUMMARY:Sunday Worship
URL;VALUE=URI:https://napaneebaptist.com/events/sunday-worship/2026-10-18
END:VEVENT
END:VCALENDAR
