BEGIN:VCALENDAR
VERSION:2.0
PRODID:icalendar-ruby
CALSCALE:GREGORIAN
METHOD:PUBLISH
BEGIN:VEVENT
DTSTAMP:20260422T224154Z
UID:8-797542@napaneebaptist.com
DTSTART:20261101T191500Z
DTEND:20261101T194500Z
CLASS:PUBLIC
CREATED:20260422T140735
DESCRIPTION:
LAST-MODIFIED:20260422T140735
LOCATION:
SUMMARY:Kids Zone (Sunday School)
URL;VALUE=URI:https://napaneebaptist.com/events/kids-zone-sunday-school/202
 6-11-01
ATTACH;FILENAME=general_children-01.jpg;FMTTYPE=image/jpeg:https://dq5pwpg1
 q8ru0.cloudfront.net/2024/10/07/21/10/29/a22f75a5-8c3a-4e81-b13d-b6b4492b2
 61d/general_children-01.jpg
END:VEVENT
END:VCALENDAR
