BEGIN:VCALENDAR
VERSION:2.0
PRODID:icalendar-ruby
CALSCALE:GREGORIAN
METHOD:PUBLISH
BEGIN:VEVENT
DTSTAMP:20260420T072018Z
UID:7-785627@napaneebaptist.com
DTSTART:20261021T203000Z
DTEND:20261021T220000Z
CLASS:PUBLIC
CREATED:20260419T204634
DESCRIPTION:
LAST-MODIFIED:20260419T204634
LOCATION:
SUMMARY:Church Bible Study (Wed)
URL;VALUE=URI:https://napaneebaptist.com/events/church-bible-study-wed/2026
 -10-21
ATTACH;FILENAME=Ndx7.jpg;FMTTYPE=image/jpeg:https://dq5pwpg1q8ru0.cloudfron
 t.net/2024/10/07/21/09/42/0cb0fc74-9f06-450d-bbd8-744895204790/Ndx7.jpg
END:VEVENT
END:VCALENDAR
